BEGIN:VCALENDAR
PRODID:-//AT Content Types//AT Event//EN
VERSION:1.0
BEGIN:VEVENT
DTSTART:20120808T163000Z
DTEND:20120808T193000Z
DCREATED:20120807T090338Z
UID:ATEvent-02338ca60e14daabf9c3d0f5cb5a827f
SEQUENCE:0
LAST-MODIFIED:20120807T125649Z
SUMMARY:PyCologne Meeting August im Rechenzentrum Berrenrather Str. – Köln
DESCRIPTION:Themen: PyQT/PySide und wxPython (Jesaja Everling)\, pdb -
  der Python-Debugger (Andi Albrecht)\, Lightning-Talk bigbluebutton-AP
 I (Reimar Bauer)\, FrOSCon,
LOCATION:Universität Köln\, Berrenrather Str. 136\, 50937 Köln
PRIORITY:3
TRANSP:0
END:VEVENT
END:VCALENDAR
